BEGIN:VCALENDAR
VERSION:2.0
PRODID:-//pretix//pretix.eu//
BEGIN:VTIMEZONE
TZID:America/Lima
BEGIN:STANDARD
DTSTART:20000101T000000
RRULE:FREQ=YEARLY;BYMONTH=1
TZNAME:-05
TZOFFSETFROM:-0500
TZOFFSETTO:-0500
END:STANDARD
END:VTIMEZONE
BEGIN:VEVENT
UID:pretix-vtalent-ultra2024test-0@tickets.vastiongroup.net
DTSTART;TZID=America/Lima:20240420T120000
DTEND;TZID=America/Lima:20240421T230000
DESCRIPTION:Entradas: https://tickets.vastiongroup.net/ultra2024test/\nOrga
 nizador: V Talent
DTSTAMP:20260425T131330Z
LOCATION:Estadio San Marcos Lima
SUMMARY:Ultra Perú 2024 - TEST
END:VEVENT
END:VCALENDAR
